BEGIN:VCALENDAR
VERSION:2.0
PRODID:-//sdynamic.cz - ECPv6.15.14//NONSGML v1.0//EN
CALSCALE:GREGORIAN
METHOD:PUBLISH
X-ORIGINAL-URL:https://sdynamic.cz
X-WR-CALDESC:Akce na sdynamic.cz
REFRESH-INTERVAL;VALUE=DURATION:PT1H
X-Robots-Tag:noindex
X-PUBLISHED-TTL:PT1H
BEGIN:VTIMEZONE
TZID:Europe/Prague
BEGIN:DAYLIGHT
TZOFFSETFROM:+0100
TZOFFSETTO:+0200
TZNAME:CEST
DTSTART:20240331T010000
END:DAYLIGHT
BEGIN:STANDARD
TZOFFSETFROM:+0200
TZOFFSETTO:+0100
TZNAME:CET
DTSTART:20241027T010000
END:STANDARD
BEGIN:DAYLIGHT
TZOFFSETFROM:+0100
TZOFFSETTO:+0200
TZNAME:CEST
DTSTART:20250330T010000
END:DAYLIGHT
BEGIN:STANDARD
TZOFFSETFROM:+0200
TZOFFSETTO:+0100
TZNAME:CET
DTSTART:20251026T010000
END:STANDARD
BEGIN:DAYLIGHT
TZOFFSETFROM:+0100
TZOFFSETTO:+0200
TZNAME:CEST
DTSTART:20260329T010000
END:DAYLIGHT
BEGIN:STANDARD
TZOFFSETFROM:+0200
TZOFFSETTO:+0100
TZNAME:CET
DTSTART:20261025T010000
END:STANDARD
END:VTIMEZONE
BEGIN:VEVENT
DTSTART;VALUE=DATE:20251011
DTEND;VALUE=DATE:20251013
DTSTAMP:20260426T035707
CREATED:20250531T140403Z
LAST-MODIFIED:20250917T125124Z
UID:10000128-1760140800-1760313599@sdynamic.cz
SUMMARY:WORKSHOP: Vše o nohách
DESCRIPTION:WORKSHOP \n\nPodmínkou pro účast je absolvování kurzu Spiraldynamik® Basic. \n\nCíl  \n\nProhloubení praktických dovedností a teoretických vědomostí. Nové zkušenosti pro praxi.\n\n  \nObsah kurzu \nSobota\n„Zážitek pro nohy“ \n\nPoznávání nohou pomocí různých materiálů a her\nPožadavky na koordinovanou nohu (patní kost\, zatížení patní kosti; hlezenní kost\, pohyby os naviculare\, chování nohy při odvalení; přednoží\, aktivita příčné klenby).\nAnatomie chodidla\, detaily a zvláštnosti struktury nohy\nCvičení na vyrovnání paty\n\nNeděle\n„Cvičení pro nohy“ \n\nHands on techniky pro iniciaci koordinace nohy\nPraktická cvičení pro plochou nohu\nTerapeutické přístupy pro „namáhané“ chodidlo\n\nhttps://sdynamic.cz/wp-content/uploads/2025/05/Workshop-spiraldynamik-vse-o-noze.mp4\n  \nMetodika \n\n3D anatomie\nTeorie pro praxi\nPraxe: hands on\, hands off\n\n  \nVšeobecné informace \n\nOdpovídající pojištění (úraz/odcizení) je věcí účastníka kurzu.\nSdynamic si vyhrazuje právo na změnu programu\, přemístění či časové posunutí kurzu.\n\nLEKTOR: Gundela Kitzmüller-Wech – fyzioterapeutka\, Dozentin Spiraldynamik®\n \nKurz je přednášen v německém jazyce s tlumočením do českého jazyka – Mgr. Jana Horalová. \nPOČET ÚČASTNÍKŮ: min. 12 / max. 24 \nMÍSTO KONÁNÍ: Škola SPMP Modrý klíč\, Smolkova 4\, Praha 12–Libuš \nČASOVÝ PLÁN: 11.–12. 10. 2025\nsobota: 9-17 hod\, neděle: 9-15 hod \nCENA KURZU:\n8.900 Kč/360 EUR \n  \n\n\n\n  \n\n\n\n\n	REGISTRACE NA AKCI:\n	 \n\n\n			 Vyberte\, na jakou akci se hlásíte:\n			\n		(povinné)\n		—Zvolte prosím možnost—KURZ: Basic Med 2026 • 12. 3.–15. 11. 2026KURZ: Basic Move 2026 • 19. 3.–8. 11. 2026KURZ: Basic Move 2026 Bratislava • 26. 3. 2026KURZ: Intermediate Fyziopedagogika 2026 • 8.–12. 4. 2026KURZ: Moderní tejpování s Richardem Jislem • 18.–19. 4. 2026WORKSHOP: Vše o nohách Bratislava • 18.–19. 4. 2026KURZ: Intermediate Specific 3D trénink • 6.–10. 5. 2026KURZ: Intermediate Specific Terapie • 29. 6.–3. 7. 2026WORKSHOP: Skribben® pro fyzioterapeuty a ergoterapeuty • 29.–30. 8. 2026WORKSHOP: Trénink na přístrojích pilates • 4.–6. 9. 2026KURZ: Oborová didaktika 1 • 2.–4. 10. 2026KURZ: Intermediate Specific – Noha • 7.–11. 10. 2026KURZ: Diplomová zkouška Spiraldynamik® Level Intermediate • 18. 10. 2026WORKSHOP: 3D terapie skoliózy • 28.–29. 11. 2026KURZ: Basic Med 2027 • 4. 3.–7. 11. 2027KURZ: Basic Move 2027 • 11. 3.–14. 11. 2027KURZ: Basic Move 2027 Bratislava • 18. 3.–21. 11. 2027WORKSHOP: Čelist – čelistní klouby v rovnováze • 10.–11. 4. 2027KURZ: Intermediate Fyziopedagogika 2027 • 14.–18. 4. 2027KURZ: Intermediate Specific Jóga • 26.–30. 5. 2027KURZ: Diplomová zkouška Spiraldynamik® Level Intermediate • 23.–24. 10. 2027KURZ: Oborová didaktika 1 2027• 8.–10. 10. 2027 \n \n\n			 Titul:\n			  \n \n\n			 Jméno:\n			\n		(povinné)\n		  \n \n\n			 Příjmení:\n			\n		(povinné)\n		  \n \n\n			 Datum narození:\n			\n		(povinné)\n		  \n \n\n			 Adresa bydliště:\n			\n		 Ulice:\n		\n		(povinné)\n		  \n \n\n		 Město:\n		\n		(povinné)\n		  \n \n\n		 PSČ:\n		\n		(povinné)\n		  \n \n\n			 Fakturační údaje:\n			 (název+adresa\, pokud se liší)  \n \n\n			 IČ:\n			  \n\n			 DIČ:\n			  \n \n\n			 Profese:\n			\n		(povinné)\n		  \n \n\n			 Telefonní číslo:\n			\n		(povinné)\n		  \n \n\n			 E-mail:\n			\n		(povinné)\n		  \n \n\n			 Absolvoval jste kurz Basic?\n			\n		(povinné)\n		 AnoNe\nPakliže ANO\, uveďte v jakém roce:  \n \n\n		 Souhlasím se zpracováním osobních údajů dle GDPR: \n		\n		(povinné)\n		 AnoNe\n \n\n			 Souhlasím se zveřejněním fotografií z kurzu pro účely propagace Sdynamic:\n			\n		(povinné)\n		 AnoNe\n \n\n			 Mám zájem dostávat newsletter:\n			\n		(povinné)\n		 AnoNe\n \n\n			 Poznámka:\n			  \n\n \n\n\n\n 
URL:https://sdynamic.cz/event/workshop-spiraldynamik-vse-o-nohach/
END:VEVENT
END:VCALENDAR