BEGIN:VCALENDAR
VERSION:2.0
PRODID:-//sdynamic.cz - ECPv6.15.14//NONSGML v1.0//EN
CALSCALE:GREGORIAN
METHOD:PUBLISH
X-ORIGINAL-URL:https://sdynamic.cz
X-WR-CALDESC:Akce na sdynamic.cz
REFRESH-INTERVAL;VALUE=DURATION:PT1H
X-Robots-Tag:noindex
X-PUBLISHED-TTL:PT1H
BEGIN:VTIMEZONE
TZID:Europe/Prague
BEGIN:DAYLIGHT
TZOFFSETFROM:+0100
TZOFFSETTO:+0200
TZNAME:CEST
DTSTART:20240331T010000
END:DAYLIGHT
BEGIN:STANDARD
TZOFFSETFROM:+0200
TZOFFSETTO:+0100
TZNAME:CET
DTSTART:20241027T010000
END:STANDARD
BEGIN:DAYLIGHT
TZOFFSETFROM:+0100
TZOFFSETTO:+0200
TZNAME:CEST
DTSTART:20250330T010000
END:DAYLIGHT
BEGIN:STANDARD
TZOFFSETFROM:+0200
TZOFFSETTO:+0100
TZNAME:CET
DTSTART:20251026T010000
END:STANDARD
BEGIN:DAYLIGHT
TZOFFSETFROM:+0100
TZOFFSETTO:+0200
TZNAME:CEST
DTSTART:20260329T010000
END:DAYLIGHT
BEGIN:STANDARD
TZOFFSETFROM:+0200
TZOFFSETTO:+0100
TZNAME:CET
DTSTART:20261025T010000
END:STANDARD
END:VTIMEZONE
BEGIN:VEVENT
DTSTART;VALUE=DATE:20251101
DTEND;VALUE=DATE:20251103
DTSTAMP:20260426T021728
CREATED:20250721T214429Z
LAST-MODIFIED:20250721T214429Z
UID:10000129-1761955200-1762127999@sdynamic.cz
SUMMARY:WORKSHOP: Refresh – trup a horní končetina
DESCRIPTION:WORKSHOP \n\nPodmínkou pro účast je ukončený kurz Spiraldynamik® Basic. \n\nCíl  \n\nIntegrace principů Spiraldynamik® do pohybu a pohybových sekvencí.\n\n  \nObsah kurzu \n\nPraktické opakování a procvičení koordinačních jednotek trup a horní končetina.\nTéma trup mobilita\, síla\, stabilita.\nTéma horní končetina: mobilita\, síla\, stabilita\nAktivní workshop s prostorem pro diskuzi a dotazy\n\n  \nMetodika \n\nAktivní pohybové jednotky\nSkupinová diskuze\n\n  \nVšeobecné informace \n\nOdpovídající pojištění (úraz/odcizení) je věcí účastníka kurzu.\nSdynamic si vyhrazuje právo na změnu programu\, přemístění či časové posunutí kurzu.\n\n  \nLEKTOR: Bc. Lenka Jirásková – fyzioterapeutka\, Dozentin Spiraldynamik® \nPOČET ÚČASTNÍKŮ: min. 16 / max. 20 \nMÍSTO KONÁNÍ: Škola SPMP Modrý klíč\, Smolkova 4\, Praha 12–Libuš \nČASOVÝ PLÁN: 1.–2. 11. 2025\nsobota: 10–17 hod\, neděle: 9–16 hod \nCENA KURZU:\n6.500 Kč/260 EUR \n  \n\n\n\n  \n\n\n\n\n	REGISTRACE NA AKCI:\n	 \n\n\n			 Vyberte\, na jakou akci se hlásíte:\n			\n		(povinné)\n		—Zvolte prosím možnost—KURZ: Basic Med 2026 • 12. 3.–15. 11. 2026KURZ: Basic Move 2026 • 19. 3.–8. 11. 2026KURZ: Basic Move 2026 Bratislava • 26. 3. 2026KURZ: Intermediate Fyziopedagogika 2026 • 8.–12. 4. 2026KURZ: Moderní tejpování s Richardem Jislem • 18.–19. 4. 2026WORKSHOP: Vše o nohách Bratislava • 18.–19. 4. 2026KURZ: Intermediate Specific 3D trénink • 6.–10. 5. 2026KURZ: Intermediate Specific Terapie • 29. 6.–3. 7. 2026WORKSHOP: Skribben® pro fyzioterapeuty a ergoterapeuty • 29.–30. 8. 2026WORKSHOP: Trénink na přístrojích pilates • 4.–6. 9. 2026KURZ: Oborová didaktika 1 • 2.–4. 10. 2026KURZ: Intermediate Specific – Noha • 7.–11. 10. 2026KURZ: Diplomová zkouška Spiraldynamik® Level Intermediate • 18. 10. 2026WORKSHOP: 3D terapie skoliózy • 28.–29. 11. 2026KURZ: Basic Med 2027 • 4. 3.–7. 11. 2027KURZ: Basic Move 2027 • 11. 3.–14. 11. 2027KURZ: Basic Move 2027 Bratislava • 18. 3.–21. 11. 2027WORKSHOP: Čelist – čelistní klouby v rovnováze • 10.–11. 4. 2027KURZ: Intermediate Fyziopedagogika 2027 • 14.–18. 4. 2027KURZ: Intermediate Specific Jóga • 26.–30. 5. 2027KURZ: Diplomová zkouška Spiraldynamik® Level Intermediate • 23.–24. 10. 2027KURZ: Oborová didaktika 1 2027• 8.–10. 10. 2027 \n \n\n			 Titul:\n			  \n \n\n			 Jméno:\n			\n		(povinné)\n		  \n \n\n			 Příjmení:\n			\n		(povinné)\n		  \n \n\n			 Datum narození:\n			\n		(povinné)\n		  \n \n\n			 Adresa bydliště:\n			\n		 Ulice:\n		\n		(povinné)\n		  \n \n\n		 Město:\n		\n		(povinné)\n		  \n \n\n		 PSČ:\n		\n		(povinné)\n		  \n \n\n			 Fakturační údaje:\n			 (název+adresa\, pokud se liší)  \n \n\n			 IČ:\n			  \n\n			 DIČ:\n			  \n \n\n			 Profese:\n			\n		(povinné)\n		  \n \n\n			 Telefonní číslo:\n			\n		(povinné)\n		  \n \n\n			 E-mail:\n			\n		(povinné)\n		  \n \n\n			 Absolvoval jste kurz Basic?\n			\n		(povinné)\n		 AnoNe\nPakliže ANO\, uveďte v jakém roce:  \n \n\n		 Souhlasím se zpracováním osobních údajů dle GDPR: \n		\n		(povinné)\n		 AnoNe\n \n\n			 Souhlasím se zveřejněním fotografií z kurzu pro účely propagace Sdynamic:\n			\n		(povinné)\n		 AnoNe\n \n\n			 Mám zájem dostávat newsletter:\n			\n		(povinné)\n		 AnoNe\n \n\n			 Poznámka:\n			  \n\n \n\n\n\n 
URL:https://sdynamic.cz/event/workshop-refresh-trup-a-horni-koncetina/
END:VEVENT
END:VCALENDAR