BEGIN:VCALENDAR
VERSION:2.0
PRODID:-//sdynamic.cz - ECPv6.15.14//NONSGML v1.0//EN
CALSCALE:GREGORIAN
METHOD:PUBLISH
X-ORIGINAL-URL:https://sdynamic.cz
X-WR-CALDESC:Akce na sdynamic.cz
REFRESH-INTERVAL;VALUE=DURATION:PT1H
X-Robots-Tag:noindex
X-PUBLISHED-TTL:PT1H
BEGIN:VTIMEZONE
TZID:Europe/Prague
BEGIN:DAYLIGHT
TZOFFSETFROM:+0100
TZOFFSETTO:+0200
TZNAME:CEST
DTSTART:20250330T010000
END:DAYLIGHT
BEGIN:STANDARD
TZOFFSETFROM:+0200
TZOFFSETTO:+0100
TZNAME:CET
DTSTART:20251026T010000
END:STANDARD
BEGIN:DAYLIGHT
TZOFFSETFROM:+0100
TZOFFSETTO:+0200
TZNAME:CEST
DTSTART:20260329T010000
END:DAYLIGHT
BEGIN:STANDARD
TZOFFSETFROM:+0200
TZOFFSETTO:+0100
TZNAME:CET
DTSTART:20261025T010000
END:STANDARD
BEGIN:DAYLIGHT
TZOFFSETFROM:+0100
TZOFFSETTO:+0200
TZNAME:CEST
DTSTART:20270328T010000
END:DAYLIGHT
BEGIN:STANDARD
TZOFFSETFROM:+0200
TZOFFSETTO:+0100
TZNAME:CET
DTSTART:20271031T010000
END:STANDARD
BEGIN:DAYLIGHT
TZOFFSETFROM:+0100
TZOFFSETTO:+0200
TZNAME:CEST
DTSTART:20280326T010000
END:DAYLIGHT
BEGIN:STANDARD
TZOFFSETFROM:+0200
TZOFFSETTO:+0100
TZNAME:CET
DTSTART:20281029T010000
END:STANDARD
END:VTIMEZONE
BEGIN:VEVENT
DTSTART;VALUE=DATE:20260829
DTEND;VALUE=DATE:20260831
DTSTAMP:20260425T211939
CREATED:20250831T190039Z
LAST-MODIFIED:20251006T192214Z
UID:10000132-1787961600-1788134399@sdynamic.cz
SUMMARY:WORKSHOP: Skribben® pro fyzioterapeuty a ergoterapeuty
DESCRIPTION:WORKSHOP \n\nPodmínkou pro účast je vzdělání v oboru fyzioterapie nebo ergoterapie. \n\nCíl  \n\nTechniky Skribben®\nPraktické dovednosti\n\n  \nObsah kurzu \nSkribben® je intuitivní metoda mobilizace kloubů těla a páteře.\nMUDr. Klaus Karsch (naturopat) a Elizabeth Karsch (fyzioterapeutka\, odbornice Spiraldynamik®) propojili techniky tradiční alpské medicíny a do smysluplného celku.\nJde o kombinaci masáže bolestivých bodů v kombinaci s uvolňujícími a protahovacími pohyby.\nDůraz je kladen na uvolnění ztuhlých šlach/šlachových úponů v okolí kloubů. \nhttps://sdynamic.cz/wp-content/uploads/2025/08/skribbbbbben.mp4\n  \n Metodika \n\nPraktický výcvik práce s klouby\nVyužití v praxi\nKombinace s funkčními cviky\n\n  \nVšeobecné informace \n\nOdpovídající pojištění (úraz/odcizení) je věcí účastníka kurzu.\nSdynamic si vyhrazuje právo na změnu programu\, přemístění či časové posunutí kurzu.\nSkribben® je mezinárodní registrovaná ochranná známka.\n\nLEKTOR:  \n Tobias Amshoff – fyzioterapeut\, lektor Skribben®\, Dozent Spiraldynamik®\n \nKurz je přednášen v německém jazyce s tlumočením do českého jazyka – Mgr. Jana Horalová. \nPOČET ÚČASTNÍKŮ: min. 12 / max. 24 \nMÍSTO KONÁNÍ: Škola SPMP Modrý klíč\, Smolkova 4\, Praha 12–Libuš \nČASOVÝ PLÁN: 29.–30. 8. 2026\nsobota: 9-18 hod (1hodina obědová pauza)\, neděle: 8-13.30 hod. (bez obědové pauzy) \nCENA KURZU:\n8.100 Kč + DPH\n338 EUR + DPH / Cena v EUR je uvedena při kurzu 24Kč/EUR \n  \n\n\n\n  \n\n\n\n\n	REGISTRACE NA AKCI:\n	 \n\n\n			 Vyberte\, na jakou akci se hlásíte:\n			\n		(povinné)\n		—Zvolte prosím možnost—KURZ: Basic Med 2026 • 12. 3.–15. 11. 2026KURZ: Basic Move 2026 • 19. 3.–8. 11. 2026KURZ: Basic Move 2026 Bratislava • 26. 3. 2026KURZ: Intermediate Fyziopedagogika 2026 • 8.–12. 4. 2026KURZ: Moderní tejpování s Richardem Jislem • 18.–19. 4. 2026WORKSHOP: Vše o nohách Bratislava • 18.–19. 4. 2026KURZ: Intermediate Specific 3D trénink • 6.–10. 5. 2026KURZ: Intermediate Specific Terapie • 29. 6.–3. 7. 2026WORKSHOP: Skribben® pro fyzioterapeuty a ergoterapeuty • 29.–30. 8. 2026WORKSHOP: Trénink na přístrojích pilates • 4.–6. 9. 2026KURZ: Oborová didaktika 1 • 2.–4. 10. 2026KURZ: Intermediate Specific – Noha • 7.–11. 10. 2026KURZ: Diplomová zkouška Spiraldynamik® Level Intermediate • 18. 10. 2026WORKSHOP: 3D terapie skoliózy • 28.–29. 11. 2026KURZ: Basic Med 2027 • 4. 3.–7. 11. 2027KURZ: Basic Move 2027 • 11. 3.–14. 11. 2027KURZ: Basic Move 2027 Bratislava • 18. 3.–21. 11. 2027WORKSHOP: Čelist – čelistní klouby v rovnováze • 10.–11. 4. 2027KURZ: Intermediate Fyziopedagogika 2027 • 14.–18. 4. 2027KURZ: Intermediate Specific Jóga • 26.–30. 5. 2027KURZ: Diplomová zkouška Spiraldynamik® Level Intermediate • 23.–24. 10. 2027KURZ: Oborová didaktika 1 2027• 8.–10. 10. 2027 \n \n\n			 Titul:\n			  \n \n\n			 Jméno:\n			\n		(povinné)\n		  \n \n\n			 Příjmení:\n			\n		(povinné)\n		  \n \n\n			 Datum narození:\n			\n		(povinné)\n		  \n \n\n			 Adresa bydliště:\n			\n		 Ulice:\n		\n		(povinné)\n		  \n \n\n		 Město:\n		\n		(povinné)\n		  \n \n\n		 PSČ:\n		\n		(povinné)\n		  \n \n\n			 Fakturační údaje:\n			 (název+adresa\, pokud se liší)  \n \n\n			 IČ:\n			  \n\n			 DIČ:\n			  \n \n\n			 Profese:\n			\n		(povinné)\n		  \n \n\n			 Telefonní číslo:\n			\n		(povinné)\n		  \n \n\n			 E-mail:\n			\n		(povinné)\n		  \n \n\n			 Absolvoval jste kurz Basic?\n			\n		(povinné)\n		 AnoNe\nPakliže ANO\, uveďte v jakém roce:  \n \n\n		 Souhlasím se zpracováním osobních údajů dle GDPR: \n		\n		(povinné)\n		 AnoNe\n \n\n			 Souhlasím se zveřejněním fotografií z kurzu pro účely propagace Sdynamic:\n			\n		(povinné)\n		 AnoNe\n \n\n			 Mám zájem dostávat newsletter:\n			\n		(povinné)\n		 AnoNe\n \n\n			 Poznámka:\n			  \n\n \n\n\n\n 
URL:https://sdynamic.cz/event/workshop-skribben-pro-fyzioterapeuty-a-ergoterapeuty-2026/
END:VEVENT
BEGIN:VEVENT
DTSTART;VALUE=DATE:20260904
DTEND;VALUE=DATE:20260907
DTSTAMP:20260425T211939
CREATED:20251006T211502Z
LAST-MODIFIED:20251012T181155Z
UID:10000136-1788480000-1788739199@sdynamic.cz
SUMMARY:WORKSHOP: Trénink na pilates Apparatus
DESCRIPTION:WORKSHOP SPIRALDYNAMIK®  \n\nPodmínkou pro účast je absolvování kurzu Spiraldynamik® Basic MED nebo MOVE. \n\nCíl \n\nTento třídenní workshop kombinuje klasická cvičení pilates na strojích s principy Spiraldynamik®.\nDůraz je kladen na cílený trénink osy nohou\, všestranný trénink ramen a četné variace pro posílení svalů trupu.\nZnámé cviky jsou procvičovány z nového úhlu pohledu a obměňovány\, tak aby byly pohyby ještě plynulejší\, silnější a přesnější\n\n  \nObsah kurzu \n\nTrénink se vyznačuje rozmanitostí cvičení\, diferencovaným vedením a prohloubeným vnímáním těla.\nKombinace Spiraldynamik® a pilates strojů otevírá nové možnosti pro cílené zdokonalování pohybových sekvencí\, jejich individuální přizpůsobení a zpestření.\n\n  \nVšeobecné informace \n\nSdynamic si vyhrazuje právo na změnu programu\, přemístění či časové posunutí kurzu.\nOdpovídající pojištění (úraz/odcizení) si zajišťuje účastník kurzu sám.\nSpiraldynamik® je mezinárodní registrovaná ochranná známka. Více informací o konceptu Spiraldynamik a vzdělávání zde: www.spiraldynamik.cz/#vzdelavani\n\n  \nLEKTOR:\nAnna Schrefl – učitelka Spiraldynamik®\, Rakousko\n \n \nAnna studovala současný tanec v Amsterdamu a Rotterdamu. V roce 2001 absolvovala výcvik pilates v New Yorku. V letech 2006-2020 vedla certifikační program Pilates System Europe. Anna Schrefl je učitelkou Spiraldynamik® a absolvovala dva magisterské obory taneční vědy na Sportovním institutu Univerzity v Bernu a na Univerzitě ve Wolverhamptonu. Trénuje profesionální tanečníky a pravidelně vede semináře pro odborníky na pilates a pohybové pedagogy\, mimo jiné v Rakousku\, Německu a Švýcarsku. Annin výzkumný projekt na univerzitě v Bernu se zaměřuje na hodnocení a posilování intrinstických a extrinstických svalů nohou u tanečníků.\n \nKurz je přednášen v německém jazyce.\nTlumočení do českého jazyka: Mgr. Jana Horalová \n  \nPOČET ÚČASTNÍKŮ: min. 10 / max. 16 \nMÍSTO KONÁNÍ: MY PILATES ACADEMY\, s.r.o.\, Dělnická 74/5\, Praha 7–Holešovice\n \nČASOVÝ PLÁN: 4.–6. 9. 2026\n \nPátek: 10–18 hod\, sobota-neděle: 9–17 hod \n  \nCENA KURZU:\n12.150 Kč + DPH\n506 EUR + DPH / Cena v EUR je uvedena při kurzu 24Kč/EUR \n  \n  \n\n\n\n  \n\n\n\n\n	REGISTRACE NA AKCI:\n	 \n\n\n			 Vyberte\, na jakou akci se hlásíte:\n			\n		(povinné)\n		—Zvolte prosím možnost—KURZ: Basic Med 2026 • 12. 3.–15. 11. 2026KURZ: Basic Move 2026 • 19. 3.–8. 11. 2026KURZ: Basic Move 2026 Bratislava • 26. 3. 2026KURZ: Intermediate Fyziopedagogika 2026 • 8.–12. 4. 2026KURZ: Moderní tejpování s Richardem Jislem • 18.–19. 4. 2026WORKSHOP: Vše o nohách Bratislava • 18.–19. 4. 2026KURZ: Intermediate Specific 3D trénink • 6.–10. 5. 2026KURZ: Intermediate Specific Terapie • 29. 6.–3. 7. 2026WORKSHOP: Skribben® pro fyzioterapeuty a ergoterapeuty • 29.–30. 8. 2026WORKSHOP: Trénink na přístrojích pilates • 4.–6. 9. 2026KURZ: Oborová didaktika 1 • 2.–4. 10. 2026KURZ: Intermediate Specific – Noha • 7.–11. 10. 2026KURZ: Diplomová zkouška Spiraldynamik® Level Intermediate • 18. 10. 2026WORKSHOP: 3D terapie skoliózy • 28.–29. 11. 2026KURZ: Basic Med 2027 • 4. 3.–7. 11. 2027KURZ: Basic Move 2027 • 11. 3.–14. 11. 2027KURZ: Basic Move 2027 Bratislava • 18. 3.–21. 11. 2027WORKSHOP: Čelist – čelistní klouby v rovnováze • 10.–11. 4. 2027KURZ: Intermediate Fyziopedagogika 2027 • 14.–18. 4. 2027KURZ: Intermediate Specific Jóga • 26.–30. 5. 2027KURZ: Diplomová zkouška Spiraldynamik® Level Intermediate • 23.–24. 10. 2027KURZ: Oborová didaktika 1 2027• 8.–10. 10. 2027 \n \n\n			 Titul:\n			  \n \n\n			 Jméno:\n			\n		(povinné)\n		  \n \n\n			 Příjmení:\n			\n		(povinné)\n		  \n \n\n			 Datum narození:\n			\n		(povinné)\n		  \n \n\n			 Adresa bydliště:\n			\n		 Ulice:\n		\n		(povinné)\n		  \n \n\n		 Město:\n		\n		(povinné)\n		  \n \n\n		 PSČ:\n		\n		(povinné)\n		  \n \n\n			 Fakturační údaje:\n			 (název+adresa\, pokud se liší)  \n \n\n			 IČ:\n			  \n\n			 DIČ:\n			  \n \n\n			 Profese:\n			\n		(povinné)\n		  \n \n\n			 Telefonní číslo:\n			\n		(povinné)\n		  \n \n\n			 E-mail:\n			\n		(povinné)\n		  \n \n\n			 Absolvoval jste kurz Basic?\n			\n		(povinné)\n		 AnoNe\nPakliže ANO\, uveďte v jakém roce:  \n \n\n		 Souhlasím se zpracováním osobních údajů dle GDPR: \n		\n		(povinné)\n		 AnoNe\n \n\n			 Souhlasím se zveřejněním fotografií z kurzu pro účely propagace Sdynamic:\n			\n		(povinné)\n		 AnoNe\n \n\n			 Mám zájem dostávat newsletter:\n			\n		(povinné)\n		 AnoNe\n \n\n			 Poznámka:\n			  \n\n \n\n\n\n 
URL:https://sdynamic.cz/event/workshop-trenink-na-pilates-apparatus-2026/
END:VEVENT
BEGIN:VEVENT
DTSTART;VALUE=DATE:20261128
DTEND;VALUE=DATE:20261130
DTSTAMP:20260425T211939
CREATED:20260205T191828Z
LAST-MODIFIED:20260208T114840Z
UID:10000138-1795824000-1795996799@sdynamic.cz
SUMMARY:WORKSHOP: Spiraldynamik® 3D terapie skoliózy
DESCRIPTION:WORKSHOP SPIRALDYNAMIK®  \n\nPodmínkou pro účast je absolvování kurzu Spiraldynamik® Basic. \n\nCíl \nVe svém kurzu o skolióze spojuje Karin své osobní zkušenosti jako pacientka s odbornými znalostmi jako terapeutka. Během své desetileté praxe objevila mnoho triků a zkratek v terapii skoliózy a ráda by je předala svým kolegům\, aby mohli pacientům poskytovat uspokojivou péči. Zaměřuje se vždy spíše na pomoc k samoléčbě než na pasivní terapeutická opatření. \n  \nObsah kurzu \n\nStatické vyšetření\, analýza chůze pomocí videa\nRozlišení a analýza jednotlivých typů skoliózy\nSlovník specifický pro skoliózu přizpůsobený pacientům\nTechniky automobilizace pánve\, páteře a hrudníku\n3D anatomie v dynamice ve vztahu k terapii skoliózy\nAnalýza a přeučení každodenních činností\nZákladní a navazující cvičení\, pokročilá posilovací terapie\n\n  \nVšeobecné informace \n\nSdynamic si vyhrazuje právo na změnu programu\, přemístění či časové posunutí kurzu.\nOdpovídající pojištění (úraz/odcizení) si zajišťuje účastník kurzu sám.\nSpiraldynamik® je mezinárodní registrovaná ochranná známka. Více informací o konceptu Spiraldynamik a vzdělávání zde: www.spiraldynamik.cz/#vzdelavani\n\n  \nLEKTOR:\nKarin Rosmann-Reif –fyzioterapeutka\, Heilpraktikerin\, Německo\n \n  \nKurz je přednášen v německém jazyce.\nTlumočení do českého jazyka: Mgr. Jana Horalová \n  \nPOČET ÚČASTNÍKŮ: min. 12 / max. 20 \nMÍSTO KONÁNÍ: Místo Modrý klíč – Smolkova 4\, Praha 4 – Libuš\n \nČASOVÝ PLÁN: 28.–29. 11. 2026\n \nSobota: 10–17 hod\, neděle: 8–15 hod \n  \nCENA KURZU:\n8.100 Kč + DPH\n338 EUR + DPH  \n  \n  \n\n\n\n  \n\n\n\n\n	REGISTRACE NA AKCI:\n	 \n\n\n			 Vyberte\, na jakou akci se hlásíte:\n			\n		(povinné)\n		—Zvolte prosím možnost—KURZ: Basic Med 2026 • 12. 3.–15. 11. 2026KURZ: Basic Move 2026 • 19. 3.–8. 11. 2026KURZ: Basic Move 2026 Bratislava • 26. 3. 2026KURZ: Intermediate Fyziopedagogika 2026 • 8.–12. 4. 2026KURZ: Moderní tejpování s Richardem Jislem • 18.–19. 4. 2026WORKSHOP: Vše o nohách Bratislava • 18.–19. 4. 2026KURZ: Intermediate Specific 3D trénink • 6.–10. 5. 2026KURZ: Intermediate Specific Terapie • 29. 6.–3. 7. 2026WORKSHOP: Skribben® pro fyzioterapeuty a ergoterapeuty • 29.–30. 8. 2026WORKSHOP: Trénink na přístrojích pilates • 4.–6. 9. 2026KURZ: Oborová didaktika 1 • 2.–4. 10. 2026KURZ: Intermediate Specific – Noha • 7.–11. 10. 2026KURZ: Diplomová zkouška Spiraldynamik® Level Intermediate • 18. 10. 2026WORKSHOP: 3D terapie skoliózy • 28.–29. 11. 2026KURZ: Basic Med 2027 • 4. 3.–7. 11. 2027KURZ: Basic Move 2027 • 11. 3.–14. 11. 2027KURZ: Basic Move 2027 Bratislava • 18. 3.–21. 11. 2027WORKSHOP: Čelist – čelistní klouby v rovnováze • 10.–11. 4. 2027KURZ: Intermediate Fyziopedagogika 2027 • 14.–18. 4. 2027KURZ: Intermediate Specific Jóga • 26.–30. 5. 2027KURZ: Diplomová zkouška Spiraldynamik® Level Intermediate • 23.–24. 10. 2027KURZ: Oborová didaktika 1 2027• 8.–10. 10. 2027 \n \n\n			 Titul:\n			  \n \n\n			 Jméno:\n			\n		(povinné)\n		  \n \n\n			 Příjmení:\n			\n		(povinné)\n		  \n \n\n			 Datum narození:\n			\n		(povinné)\n		  \n \n\n			 Adresa bydliště:\n			\n		 Ulice:\n		\n		(povinné)\n		  \n \n\n		 Město:\n		\n		(povinné)\n		  \n \n\n		 PSČ:\n		\n		(povinné)\n		  \n \n\n			 Fakturační údaje:\n			 (název+adresa\, pokud se liší)  \n \n\n			 IČ:\n			  \n\n			 DIČ:\n			  \n \n\n			 Profese:\n			\n		(povinné)\n		  \n \n\n			 Telefonní číslo:\n			\n		(povinné)\n		  \n \n\n			 E-mail:\n			\n		(povinné)\n		  \n \n\n			 Absolvoval jste kurz Basic?\n			\n		(povinné)\n		 AnoNe\nPakliže ANO\, uveďte v jakém roce:  \n \n\n		 Souhlasím se zpracováním osobních údajů dle GDPR: \n		\n		(povinné)\n		 AnoNe\n \n\n			 Souhlasím se zveřejněním fotografií z kurzu pro účely propagace Sdynamic:\n			\n		(povinné)\n		 AnoNe\n \n\n			 Mám zájem dostávat newsletter:\n			\n		(povinné)\n		 AnoNe\n \n\n			 Poznámka:\n			  \n\n \n\n\n\n 
URL:https://sdynamic.cz/event/3d-terapie-skoliozy/
END:VEVENT
BEGIN:VEVENT
DTSTART;VALUE=DATE:20270410
DTEND;VALUE=DATE:20270412
DTSTAMP:20260425T211939
CREATED:20260205T193316Z
LAST-MODIFIED:20260205T193400Z
UID:10000139-1807315200-1807487999@sdynamic.cz
SUMMARY:WORKSHOP: Čelist-čelistní klouby v rovnováze
DESCRIPTION:WORKSHOP SPIRALDYNAMIK®  \n\nPodmínkou pro účast je absolvování kurzu Spiraldynamik® Basic MED/MOVE. \n\nCíl \nCo je důležité pro vyváženou čelist?\nCo je špatně při CMD (cranio mandibulární dysfunkci) nebo skřípání zubů (bruxismus).\nA co s tím můžeme dělat?\nAby to byl komplexní\, praktické a hmatatelné? \n  \nObsah kurzu \n3D anatomie: \n\nKosti/klouby/svaly/žvýkací mechanismus.\n\nPochopení a použití základních principů Spiraldynamik® pro terapii a učení pohybu u čelisti.\nAnamnéza: \n\nPatomechanika a hlavní příznaky obtíží pod lupou Spiraldynamik®.\nStrukturální a funkční změny od 3D mobility a stability až po funkci\n\nHypotéza terapie: \n\nFunkčním pohyb je součástí a základem pro terapii\n\nTerapie a proces učení: \n\nPorozumění a poznávání vzájemných vztahů a propojeností v širším kontextu s čelistním kloubem\nPodpora vnímání – řešení deficitů – trénink funkce a rovnováhy\n3D mobilizace s osmičkovými pohyby\nCvičení pro klienty na doma a především integrace\n\n  \nMetodika \n\nLátka se vyučuje prostřednictvím cílených metod a forem výuky.\nTeorie a praxe jsou v rovnováze\nAtmosféra výuky se vyznačuje objevováním\, praxí\, pohybem\, reflexí a kladením otázek.\n\nMotto:\n„Ráda lidem přibližuji to\, co se v nich skrývá.  Jaký jejich potenciál čeká na objevení\, rozvinutí a prožití? Tento proces uvědomování probíhá celým tělem a je celoživotním dobrodružstvím.“ (Monica Fischer Straub) \n  \nVšeobecné informace \n\nSdynamic si vyhrazuje právo na změnu programu\, přemístění či časové posunutí kurzu.\nOdpovídající pojištění (úraz/odcizení) si zajišťuje účastník kurzu sám.\nSpiraldynamik® je mezinárodní registrovaná ochranná známka. Více informací o konceptu Spiraldynamik a vzdělávání zde: www.spiraldynamik.cz/#vzdelavani\n\n  \nLEKTOR:\nMonica Fischer Straub – fyzioterapeutka\, Dozentin Spiraldynamik® \nWorkshop je přednášen v německém jazyce.\nTlumočení do českého jazyka: Mgr. Jana Horalová \n  \nPOČET ÚČASTNÍKŮ: min. 12 / max. 24 \nMÍSTO KONÁNÍ: Místo Modrý klíč – Smolkova 4\, Praha 4 – Libuš\n \nČASOVÝ PLÁN: 10.–11. 4. 2027\n \nSobota: 10–17 hod\, neděle: 9–16 hod \n  \nCENA KURZU:\n8.100 Kč + DPH\n338 EUR + DPH  \n  \n\n\n\n  \n\n\n\n\n	REGISTRACE NA AKCI:\n	 \n\n\n			 Vyberte\, na jakou akci se hlásíte:\n			\n		(povinné)\n		—Zvolte prosím možnost—KURZ: Basic Med 2026 • 12. 3.–15. 11. 2026KURZ: Basic Move 2026 • 19. 3.–8. 11. 2026KURZ: Basic Move 2026 Bratislava • 26. 3. 2026KURZ: Intermediate Fyziopedagogika 2026 • 8.–12. 4. 2026KURZ: Moderní tejpování s Richardem Jislem • 18.–19. 4. 2026WORKSHOP: Vše o nohách Bratislava • 18.–19. 4. 2026KURZ: Intermediate Specific 3D trénink • 6.–10. 5. 2026KURZ: Intermediate Specific Terapie • 29. 6.–3. 7. 2026WORKSHOP: Skribben® pro fyzioterapeuty a ergoterapeuty • 29.–30. 8. 2026WORKSHOP: Trénink na přístrojích pilates • 4.–6. 9. 2026KURZ: Oborová didaktika 1 • 2.–4. 10. 2026KURZ: Intermediate Specific – Noha • 7.–11. 10. 2026KURZ: Diplomová zkouška Spiraldynamik® Level Intermediate • 18. 10. 2026WORKSHOP: 3D terapie skoliózy • 28.–29. 11. 2026KURZ: Basic Med 2027 • 4. 3.–7. 11. 2027KURZ: Basic Move 2027 • 11. 3.–14. 11. 2027KURZ: Basic Move 2027 Bratislava • 18. 3.–21. 11. 2027WORKSHOP: Čelist – čelistní klouby v rovnováze • 10.–11. 4. 2027KURZ: Intermediate Fyziopedagogika 2027 • 14.–18. 4. 2027KURZ: Intermediate Specific Jóga • 26.–30. 5. 2027KURZ: Diplomová zkouška Spiraldynamik® Level Intermediate • 23.–24. 10. 2027KURZ: Oborová didaktika 1 2027• 8.–10. 10. 2027 \n \n\n			 Titul:\n			  \n \n\n			 Jméno:\n			\n		(povinné)\n		  \n \n\n			 Příjmení:\n			\n		(povinné)\n		  \n \n\n			 Datum narození:\n			\n		(povinné)\n		  \n \n\n			 Adresa bydliště:\n			\n		 Ulice:\n		\n		(povinné)\n		  \n \n\n		 Město:\n		\n		(povinné)\n		  \n \n\n		 PSČ:\n		\n		(povinné)\n		  \n \n\n			 Fakturační údaje:\n			 (název+adresa\, pokud se liší)  \n \n\n			 IČ:\n			  \n\n			 DIČ:\n			  \n \n\n			 Profese:\n			\n		(povinné)\n		  \n \n\n			 Telefonní číslo:\n			\n		(povinné)\n		  \n \n\n			 E-mail:\n			\n		(povinné)\n		  \n \n\n			 Absolvoval jste kurz Basic?\n			\n		(povinné)\n		 AnoNe\nPakliže ANO\, uveďte v jakém roce:  \n \n\n		 Souhlasím se zpracováním osobních údajů dle GDPR: \n		\n		(povinné)\n		 AnoNe\n \n\n			 Souhlasím se zveřejněním fotografií z kurzu pro účely propagace Sdynamic:\n			\n		(povinné)\n		 AnoNe\n \n\n			 Mám zájem dostávat newsletter:\n			\n		(povinné)\n		 AnoNe\n \n\n			 Poznámka:\n			  \n\n \n\n\n\n 
URL:https://sdynamic.cz/event/workshop-celist-celistni-klouby-v-rovnovaze/
END:VEVENT
END:VCALENDAR